BEGIN:VCALENDAR
VERSION:2.0
PRODID:-//hacksw/handcal//NONSGML v1.0//EN
BEGIN:VEVENT
UID:3343@carbolite
ORGANIZER:CN=Carbolite Gero GmbH & Co. KG
DTSTART;VALUE=DATE:20180322
DTEND;VALUE=DATE:20180325
SUMMARY:MECPSE
LOCATION:Parma - Italy
END:VEVENT
END:VCALENDAR