BEGIN:VCALENDAR
VERSION:2.0
PRODID:-//hacksw/handcal//NONSGML v1.0//EN
BEGIN:VEVENT
UID:3323@carbolite
ORGANIZER:CN=Carbolite Gero GmbH & Co. KG
DTSTART;VALUE=DATE:20180410
DTEND;VALUE=DATE:20180414
SUMMARY:ceramitec
LOCATION:Hall A5 - Booth 411/510 - Munich - Germany
END:VEVENT
END:VCALENDAR